BEGIN:VCALENDAR
VERSION:2.0
PRODID:-//Carolina Fly Fishing Club - ECPv6.15.20//NONSGML v1.0//EN
CALSCALE:GREGORIAN
METHOD:PUBLISH
X-ORIGINAL-URL:https://carolinaflyfishingclub.org
X-WR-CALDESC:Events for Carolina Fly Fishing Club
REFRESH-INTERVAL;VALUE=DURATION:PT1H
X-Robots-Tag:noindex
X-PUBLISHED-TTL:PT1H
BEGIN:VTIMEZONE
TZID:America/New_York
BEGIN:DAYLIGHT
TZOFFSETFROM:-0500
TZOFFSETTO:-0400
TZNAME:EDT
DTSTART:20250309T070000
END:DAYLIGHT
BEGIN:STANDARD
TZOFFSETFROM:-0400
TZOFFSETTO:-0500
TZNAME:EST
DTSTART:20251102T060000
END:STANDARD
BEGIN:DAYLIGHT
TZOFFSETFROM:-0500
TZOFFSETTO:-0400
TZNAME:EDT
DTSTART:20260308T070000
END:DAYLIGHT
BEGIN:STANDARD
TZOFFSETFROM:-0400
TZOFFSETTO:-0500
TZNAME:EST
DTSTART:20261101T060000
END:STANDARD
BEGIN:DAYLIGHT
TZOFFSETFROM:-0500
TZOFFSETTO:-0400
TZNAME:EDT
DTSTART:20270314T070000
END:DAYLIGHT
BEGIN:STANDARD
TZOFFSETFROM:-0400
TZOFFSETTO:-0500
TZNAME:EST
DTSTART:20271107T060000
END:STANDARD
END:VTIMEZONE
BEGIN:VEVENT
DTSTART;TZID=America/New_York:20260211T183000
DTEND;TZID=America/New_York:20260211T200000
DTSTAMP:20260419T151733
CREATED:20260130T163737Z
LAST-MODIFIED:20260130T163739Z
UID:10000197-1770834600-1770840000@carolinaflyfishingclub.org
SUMMARY:Monthly Meeting February 11\,2026
DESCRIPTION:Matt Hayes\nMonthly meeting\nFebruary 11\, 2026\n6:30pm to 8:00pm\nBasspro Concord\, NC\nMatt Hayes\n\n\nMastering the Stream: Strategic Tactics for Delayed Harvest Trout\n\n\n\n\nfly fish in 2006 and has authored and co-authored nine books to date.\n\n\nAlen initiated the vision for the Fly Fishing Museum of the Southern Appalachians and has recruited ongoing support (pledges\, volunteer hours\, and content initiatives) from all southeastern states.\n\n\n\nJoin Matt Hayes as he shares his professional framework for identifying and “breaking down” delayed harvest waters. Matt will move beyond the basics\, teaching you how to read the water more effectively to increase your catch rate. The session will also feature an in-depth look at the technical side of the sport\, covering everything from the fundamentals to advanced European Nymphing techniques.\n\n\nMeet Matt Hayes\, Owner of Lazy Dog Outfitters. A life lived on the water has shaped Matt’s deep-rooted passion for the outdoors. Growing up on the St. Lawrence River in upstate New York\, Matt spent his youth chasing smallmouth bass—a spark that ignited a lifelong obsession. After moving to Statesville in the late 90s\, he discovered fly fishing in high school\, transforming a hobby into a calling.
URL:https://carolinaflyfishingclub.org/event/monthly-meeting-2/
CATEGORIES:Meetings
ORGANIZER;CN="Carolina Fly Fishing CLub":MAILTO:Carolinaflyfishingclub@gmail.com
END:VEVENT
BEGIN:VEVENT
DTSTART;TZID=America/New_York:20260211T183000
DTEND;TZID=America/New_York:20260211T200000
DTSTAMP:20260419T151733
CREATED:20260224T201232Z
LAST-MODIFIED:20260224T201232Z
UID:10000260-1770834600-1770840000@carolinaflyfishingclub.org
SUMMARY:Monthly Meeting March 11\, 2026
DESCRIPTION:Monthly meeting\nMarch 11\, 2026\n6:30pm to 8:00pm\nBasspro Concord\, NC\n\n Speaker: John Conits of www.Haresearflyfishing.com\n\nReady to stop guessing and start understanding?  \n🐟 Topic: How to Be a Complete Angler\nUnderstanding Fish Habitats & Where to Fish for the Best Experience \nIn this powerful session\, John Conits\, owner/operator and head guide of Hare’s Ear Fly Fishing\, will take you beneath the surface — literally. \nJohn will break down: \n\n\n🌊 How to read water like a professional guide \n\n\n🧠 Where selective\, trophy-class fish position and why \n\n\n🎯 Feeding behaviors of large trout\, bass\, stripers\, and muskie \n\n\n🪨 Structure\, depth\, current\, seasonal shifts & daily fluctuations \n\n\n🏆 How to successfully target and catch quality fish in the Carolinas \n\n\nFrom mountain trout streams to bass lakes\, striper tailwaters to muskie rivers — you’ll gain real-world insight that shortens the learning curve and sharpens your edge. \n\n🔥 Species Spotlight in the Carolinas\n\n\nTrout \n\n\nBass \n\n\nStriper \n\n\nMuskie \n\n\nJohn spends countless days on the water studying the minute details — subtle changes in current seams\, light angles\, forage movements\, pressure shifts — the small things that separate average days from unforgettable ones. \n\n🎓 More Than Catching Fish — It’s Mastery\nLike many seasoned guides\, John reached the point where catching fish was no longer the goal — understanding them was. \nHe now pursues the final chapter in fly fishing:Celebrating the assist.Helping others unlock the puzzle. Watching clients succeed. Transferring knowledge that lasts a lifetime. \nA day on the water with John isn’t just a trip —it’s an immersive learning experience with a patient\, encouraging teacher who believes: \n\nHard work and time on the water are the true secrets to success. \n\n\n💡 Who Should Attend?\n\n\nAnglers wanting to level up \n\n\nFly fishers seeking consistency \n\n\nThose chasing larger\, selective fish \n\n\nAnyone serious about understanding the underwater world \n\n\n\nIf you’re ready to move from simply fishing…to truly becoming a Complete Angler —this is a presentation you don’t want to miss.
URL:https://carolinaflyfishingclub.org/event/monthly-meeting-march-022026/
CATEGORIES:Meetings
ORGANIZER;CN="Carolina Fly Fishing CLub":MAILTO:Carolinaflyfishingclub@gmail.com
END:VEVENT
END:VCALENDAR