BEGIN:VCALENDAR
VERSION:2.0
PRODID:-//Carolina Fly Fishing Club - ECPv6.15.20//NONSGML v1.0//EN
CALSCALE:GREGORIAN
METHOD:PUBLISH
X-WR-CALNAME:Carolina Fly Fishing Club
X-ORIGINAL-URL:https://carolinaflyfishingclub.org
X-WR-CALDESC:Events for Carolina Fly Fishing Club
REFRESH-INTERVAL;VALUE=DURATION:PT1H
X-Robots-Tag:noindex
X-PUBLISHED-TTL:PT1H
BEGIN:VTIMEZONE
TZID:America/Halifax
BEGIN:DAYLIGHT
TZOFFSETFROM:-0400
TZOFFSETTO:-0300
TZNAME:ADT
DTSTART:20230312T060000
END:DAYLIGHT
BEGIN:STANDARD
TZOFFSETFROM:-0300
TZOFFSETTO:-0400
TZNAME:AST
DTSTART:20231105T050000
END:STANDARD
BEGIN:DAYLIGHT
TZOFFSETFROM:-0400
TZOFFSETTO:-0300
TZNAME:ADT
DTSTART:20240310T060000
END:DAYLIGHT
BEGIN:STANDARD
TZOFFSETFROM:-0300
TZOFFSETTO:-0400
TZNAME:AST
DTSTART:20241103T050000
END:STANDARD
BEGIN:DAYLIGHT
TZOFFSETFROM:-0400
TZOFFSETTO:-0300
TZNAME:ADT
DTSTART:20250309T060000
END:DAYLIGHT
BEGIN:STANDARD
TZOFFSETFROM:-0300
TZOFFSETTO:-0400
TZNAME:AST
DTSTART:20251102T050000
END:STANDARD
END:VTIMEZONE
BEGIN:VEVENT
DTSTART;TZID=America/Halifax:20240423T180000
DTEND;TZID=America/Halifax:20240423T200000
DTSTAMP:20260419T195939
CREATED:20231102T054233Z
LAST-MODIFIED:20240110T002928Z
UID:10000142-1713895200-1713902400@carolinaflyfishingclub.org
SUMMARY:Lying and Tying North at Bass Pro Shops\, Concord Mill Mall.2024
DESCRIPTION:
URL:https://carolinaflyfishingclub.org/event/lying-and-tying-north-at-bass-pro-shops-concord-mill-mall-2024/2024-04-23/
LOCATION:Bass Pro Shops\, Concord\, NC\, 8181 Concord Mills Boulevard\, Concord\, NC\, 28027
ORGANIZER;CN="Michael Helms":MAILTO:jmichaelhelms@gmail.com
END:VEVENT
BEGIN:VEVENT
DTSTART;TZID=America/Halifax:20240326T180000
DTEND;TZID=America/Halifax:20240326T200000
DTSTAMP:20260419T195939
CREATED:20231102T054233Z
LAST-MODIFIED:20240110T002928Z
UID:10000141-1711476000-1711483200@carolinaflyfishingclub.org
SUMMARY:Lying and Tying North at Bass Pro Shops\, Concord Mill Mall.2024
DESCRIPTION:
URL:https://carolinaflyfishingclub.org/event/lying-and-tying-north-at-bass-pro-shops-concord-mill-mall-2024/2024-03-26/
LOCATION:Bass Pro Shops\, Concord\, NC\, 8181 Concord Mills Boulevard\, Concord\, NC\, 28027
ORGANIZER;CN="Michael Helms":MAILTO:jmichaelhelms@gmail.com
END:VEVENT
BEGIN:VEVENT
DTSTART;TZID=America/Halifax:20240227T180000
DTEND;TZID=America/Halifax:20240227T200000
DTSTAMP:20260419T195939
CREATED:20231102T054233Z
LAST-MODIFIED:20240110T002928Z
UID:10000140-1709056800-1709064000@carolinaflyfishingclub.org
SUMMARY:Lying and Tying North at Bass Pro Shops\, Concord Mill Mall.2024
DESCRIPTION:
URL:https://carolinaflyfishingclub.org/event/lying-and-tying-north-at-bass-pro-shops-concord-mill-mall-2024/2024-02-27/
LOCATION:Bass Pro Shops\, Concord\, NC\, 8181 Concord Mills Boulevard\, Concord\, NC\, 28027
ORGANIZER;CN="Michael Helms":MAILTO:jmichaelhelms@gmail.com
END:VEVENT
BEGIN:VEVENT
DTSTART;TZID=America/Halifax:20240123T180000
DTEND;TZID=America/Halifax:20240123T200000
DTSTAMP:20260419T195939
CREATED:20231102T054233Z
LAST-MODIFIED:20240110T002928Z
UID:10000139-1706032800-1706040000@carolinaflyfishingclub.org
SUMMARY:Lying and Tying North at Bass Pro Shops\, Concord Mill Mall.2024
DESCRIPTION:
URL:https://carolinaflyfishingclub.org/event/lying-and-tying-north-at-bass-pro-shops-concord-mill-mall-2024/2024-01-23/
LOCATION:Bass Pro Shops\, Concord\, NC\, 8181 Concord Mills Boulevard\, Concord\, NC\, 28027
ORGANIZER;CN="Michael Helms":MAILTO:jmichaelhelms@gmail.com
END:VEVENT
END:VCALENDAR