BEGIN:VCALENDAR
VERSION:2.0
PRODID:-//Carolina Fly Fishing Club - ECPv6.15.20//NONSGML v1.0//EN
CALSCALE:GREGORIAN
METHOD:PUBLISH
X-WR-CALNAME:Carolina Fly Fishing Club
X-ORIGINAL-URL:https://carolinaflyfishingclub.org
X-WR-CALDESC:Events for Carolina Fly Fishing Club
REFRESH-INTERVAL;VALUE=DURATION:PT1H
X-Robots-Tag:noindex
X-PUBLISHED-TTL:PT1H
BEGIN:VTIMEZONE
TZID:America/New_York
BEGIN:DAYLIGHT
TZOFFSETFROM:-0500
TZOFFSETTO:-0400
TZNAME:EDT
DTSTART:20230312T070000
END:DAYLIGHT
BEGIN:STANDARD
TZOFFSETFROM:-0400
TZOFFSETTO:-0500
TZNAME:EST
DTSTART:20231105T060000
END:STANDARD
BEGIN:DAYLIGHT
TZOFFSETFROM:-0500
TZOFFSETTO:-0400
TZNAME:EDT
DTSTART:20240310T070000
END:DAYLIGHT
BEGIN:STANDARD
TZOFFSETFROM:-0400
TZOFFSETTO:-0500
TZNAME:EST
DTSTART:20241103T060000
END:STANDARD
BEGIN:DAYLIGHT
TZOFFSETFROM:-0500
TZOFFSETTO:-0400
TZNAME:EDT
DTSTART:20250309T070000
END:DAYLIGHT
BEGIN:STANDARD
TZOFFSETFROM:-0400
TZOFFSETTO:-0500
TZNAME:EST
DTSTART:20251102T060000
END:STANDARD
END:VTIMEZONE
BEGIN:VEVENT
DTSTART;TZID=America/New_York:20240516T120000
DTEND;TZID=America/New_York:20240519T170000
DTSTAMP:20260419T233016
CREATED:20240418T135159Z
LAST-MODIFIED:20240418T135159Z
UID:10000163-1715860800-1716138000@carolinaflyfishingclub.org
SUMMARY:FF Shady Valley Camping Trip
DESCRIPTION:Psycho Fly Fishermen has invited us to their annual P. From Bob Thomas “Ok Folks. I know it’s early.JT asked me to Strawboss this PFF Shady Valley outing. So let’s have the best one ever in his honor”.\n\nMay 16\,17\,18\,19\n$70.00 Thursday through Sunday.\n$60.00 Friday through Sunday.\n\n\nTo sign up or if you have questions\, email Bob Thomas at phonefly@yahoo.com\n\n\n\n\nI would rather not deal with Cash in camp.\nSend cash or check to\n\n\nRick Pons\n305 Rodoret St. N\nValdese\, NC 28690\n\n\n\nWe will need cooks and clean up crews.
URL:https://carolinaflyfishingclub.org/event/ff-shady-valley-camping-trip/
ORGANIZER;CN="Psycho Fly Fishers":MAILTO:phonefly@yahoo.com
END:VEVENT
END:VCALENDAR