BEGIN:VCALENDAR
VERSION:2.0
PRODID:-//Carolina Fly Fishing Club - ECPv6.15.20//NONSGML v1.0//EN
CALSCALE:GREGORIAN
METHOD:PUBLISH
X-WR-CALNAME:Carolina Fly Fishing Club
X-ORIGINAL-URL:https://carolinaflyfishingclub.org
X-WR-CALDESC:Events for Carolina Fly Fishing Club
REFRESH-INTERVAL;VALUE=DURATION:PT1H
X-Robots-Tag:noindex
X-PUBLISHED-TTL:PT1H
BEGIN:VTIMEZONE
TZID:America/New_York
BEGIN:DAYLIGHT
TZOFFSETFROM:-0500
TZOFFSETTO:-0400
TZNAME:EDT
DTSTART:20230312T070000
END:DAYLIGHT
BEGIN:STANDARD
TZOFFSETFROM:-0400
TZOFFSETTO:-0500
TZNAME:EST
DTSTART:20231105T060000
END:STANDARD
BEGIN:DAYLIGHT
TZOFFSETFROM:-0500
TZOFFSETTO:-0400
TZNAME:EDT
DTSTART:20240310T070000
END:DAYLIGHT
BEGIN:STANDARD
TZOFFSETFROM:-0400
TZOFFSETTO:-0500
TZNAME:EST
DTSTART:20241103T060000
END:STANDARD
BEGIN:DAYLIGHT
TZOFFSETFROM:-0500
TZOFFSETTO:-0400
TZNAME:EDT
DTSTART:20250309T070000
END:DAYLIGHT
BEGIN:STANDARD
TZOFFSETFROM:-0400
TZOFFSETTO:-0500
TZNAME:EST
DTSTART:20251102T060000
END:STANDARD
END:VTIMEZONE
BEGIN:VEVENT
DTSTART;TZID=America/New_York:20241113T180000
DTEND;TZID=America/New_York:20241113T210000
DTSTAMP:20260419T215550
CREATED:20240805T130233Z
LAST-MODIFIED:20241112T221333Z
UID:10000170-1731520800-1731531600@carolinaflyfishingclub.org
SUMMARY:2024 CFFC Holiday Banquet
DESCRIPTION:Come together with friends to celebrate the end of another good year for The Carolina Fly Fishing Club. \nWednesday\, November 13\, 2024\, 6-9 PM \nThe Palmer Building\,  located at 2601 E. 7th Street\, Charlotte\, NC 28204 \nCash Bar \nMenu: Sliced Turkey Breast with Gravy\, Sweet Potato Casserole\, Green Beans\, Stuffing Balls with Gravy\, Cranberry Sauce and Pear Salad \nThe best raffle of the year\, as well as other games and the big raffle this year\, is the Winston Rod drawing. \nBusiness Attire
URL:https://carolinaflyfishingclub.org/event/2024-cffc-holiday-banquet/
LOCATION:The Palmer Building\, 2601 E. 7th Street\, Charlotte\, NC\, 28204\, United States
ORGANIZER;CN="Sara Freeman":MAILTO:Carolinaflyfishingclub@gmail.com
END:VEVENT
END:VCALENDAR