BEGIN:VCALENDAR
VERSION:2.0
PRODID:-//Carolina Fly Fishing Club - ECPv6.15.20//NONSGML v1.0//EN
CALSCALE:GREGORIAN
METHOD:PUBLISH
X-ORIGINAL-URL:https://carolinaflyfishingclub.org
X-WR-CALDESC:Events for Carolina Fly Fishing Club
REFRESH-INTERVAL;VALUE=DURATION:PT1H
X-Robots-Tag:noindex
X-PUBLISHED-TTL:PT1H
BEGIN:VTIMEZONE
TZID:America/New_York
BEGIN:DAYLIGHT
TZOFFSETFROM:-0500
TZOFFSETTO:-0400
TZNAME:EDT
DTSTART:20230312T070000
END:DAYLIGHT
BEGIN:STANDARD
TZOFFSETFROM:-0400
TZOFFSETTO:-0500
TZNAME:EST
DTSTART:20231105T060000
END:STANDARD
BEGIN:DAYLIGHT
TZOFFSETFROM:-0500
TZOFFSETTO:-0400
TZNAME:EDT
DTSTART:20240310T070000
END:DAYLIGHT
BEGIN:STANDARD
TZOFFSETFROM:-0400
TZOFFSETTO:-0500
TZNAME:EST
DTSTART:20241103T060000
END:STANDARD
BEGIN:DAYLIGHT
TZOFFSETFROM:-0500
TZOFFSETTO:-0400
TZNAME:EDT
DTSTART:20250309T070000
END:DAYLIGHT
BEGIN:STANDARD
TZOFFSETFROM:-0400
TZOFFSETTO:-0500
TZNAME:EST
DTSTART:20251102T060000
END:STANDARD
END:VTIMEZONE
BEGIN:VEVENT
DTSTART;TZID=America/New_York:20240427T110000
DTEND;TZID=America/New_York:20240427T140000
DTSTAMP:20260419T221914
CREATED:20240331T131719Z
LAST-MODIFIED:20240331T131734Z
UID:10000160-1714215600-1714226400@carolinaflyfishingclub.org
SUMMARY:Project Healing Waters (PHWFF) BBQ Fundraiser
DESCRIPTION:PHWFF of the Greater Charlotte Area is dedicated to the volunteers\, members\, and families of those who served through the art and craft of fly fishing. RRTU is an ongoing sponsor of Project Healing Waters. \nMark your calendar for Saturday\, April 27\, 2024 (11:00 am – 2:00 pm) \nEnjoy some BBQ while supporting a great organization!
URL:https://carolinaflyfishingclub.org/event/project-healing-waters-phwff-bbq-fundraiser/
LOCATION:All Saints Anglican Church\, 5328 Hemby Rd\, Weddington\, NC\, 28104\, United States
END:VEVENT
END:VCALENDAR