BEGIN:VCALENDAR
VERSION:2.0
PRODID:-//Carolina Fly Fishing Club - ECPv6.15.20//NONSGML v1.0//EN
CALSCALE:GREGORIAN
METHOD:PUBLISH
X-ORIGINAL-URL:https://carolinaflyfishingclub.org
X-WR-CALDESC:Events for Carolina Fly Fishing Club
REFRESH-INTERVAL;VALUE=DURATION:PT1H
X-Robots-Tag:noindex
X-PUBLISHED-TTL:PT1H
BEGIN:VTIMEZONE
TZID:America/New_York
BEGIN:DAYLIGHT
TZOFFSETFROM:-0500
TZOFFSETTO:-0400
TZNAME:EDT
DTSTART:20230312T070000
END:DAYLIGHT
BEGIN:STANDARD
TZOFFSETFROM:-0400
TZOFFSETTO:-0500
TZNAME:EST
DTSTART:20231105T060000
END:STANDARD
BEGIN:DAYLIGHT
TZOFFSETFROM:-0500
TZOFFSETTO:-0400
TZNAME:EDT
DTSTART:20240310T070000
END:DAYLIGHT
BEGIN:STANDARD
TZOFFSETFROM:-0400
TZOFFSETTO:-0500
TZNAME:EST
DTSTART:20241103T060000
END:STANDARD
BEGIN:DAYLIGHT
TZOFFSETFROM:-0500
TZOFFSETTO:-0400
TZNAME:EDT
DTSTART:20250309T070000
END:DAYLIGHT
BEGIN:STANDARD
TZOFFSETFROM:-0400
TZOFFSETTO:-0500
TZNAME:EST
DTSTART:20251102T060000
END:STANDARD
END:VTIMEZONE
BEGIN:VEVENT
DTSTART;VALUE=DATE:20241026
DTEND;VALUE=DATE:20241028
DTSTAMP:20260419T220106
CREATED:20240423T192711Z
LAST-MODIFIED:20240423T192711Z
UID:10000165-1729900800-1730073599@carolinaflyfishingclub.org
SUMMARY:Tie One On With Casting Carolinas
DESCRIPTION:Carolina Fly Fishing Club has sponsored this event with Casting Carolinas. \nFeel free to join in the fun and also volunteer for the day. Please email this link and let them know you are with CFFC to volunteer. \nSave the Date!! This is your chance to help us continue to offer these amazing retreats. Join us in Cherokee for the 9th annual tournament and be a part of our mission. \n \n  \n2 DAY\nTEAM PRO TEAM COMPETITION \nhttps://www.flycomps.com/events/casting-carolinas-10-21-2023 \n1 DAY\nOPEN DIVISION \nThe Open division (Alum\, Amateur and Mini Pro) is currently full!! Join us in Cherokee to volunteer (link) or watch the 44 teams of anglers!
URL:https://carolinaflyfishingclub.org/event/tie-one-on-with-casting-carolinas/
LOCATION:Cherokee\, NC
END:VEVENT
END:VCALENDAR