BEGIN:VCALENDAR
VERSION:2.0
PRODID:-//Carolina Fly Fishing Club - ECPv6.15.20//NONSGML v1.0//EN
CALSCALE:GREGORIAN
METHOD:PUBLISH
X-WR-CALNAME:Carolina Fly Fishing Club
X-ORIGINAL-URL:https://carolinaflyfishingclub.org
X-WR-CALDESC:Events for Carolina Fly Fishing Club
REFRESH-INTERVAL;VALUE=DURATION:PT1H
X-Robots-Tag:noindex
X-PUBLISHED-TTL:PT1H
BEGIN:VTIMEZONE
TZID:America/New_York
BEGIN:DAYLIGHT
TZOFFSETFROM:-0500
TZOFFSETTO:-0400
TZNAME:EDT
DTSTART:20240310T070000
END:DAYLIGHT
BEGIN:STANDARD
TZOFFSETFROM:-0400
TZOFFSETTO:-0500
TZNAME:EST
DTSTART:20241103T060000
END:STANDARD
BEGIN:DAYLIGHT
TZOFFSETFROM:-0500
TZOFFSETTO:-0400
TZNAME:EDT
DTSTART:20250309T070000
END:DAYLIGHT
BEGIN:STANDARD
TZOFFSETFROM:-0400
TZOFFSETTO:-0500
TZNAME:EST
DTSTART:20251102T060000
END:STANDARD
BEGIN:DAYLIGHT
TZOFFSETFROM:-0500
TZOFFSETTO:-0400
TZNAME:EDT
DTSTART:20260308T070000
END:DAYLIGHT
BEGIN:STANDARD
TZOFFSETFROM:-0400
TZOFFSETTO:-0500
TZNAME:EST
DTSTART:20261101T060000
END:STANDARD
END:VTIMEZONE
BEGIN:VEVENT
DTSTART;TZID=America/New_York:20251213T100000
DTEND;TZID=America/New_York:20251213T130000
DTSTAMP:20260419T151934
CREATED:20251029T183643Z
LAST-MODIFIED:20251029T183644Z
UID:10000194-1765620000-1765630800@carolinaflyfishingclub.org
SUMMARY:Casting Clinic Free
DESCRIPTION:Join the Carolina Fly Fishing Club as we host a casting clinic in conjunction with Franklinville\, NC. \nFree and open to the public. An adult must accompany children. \n  \n \n  \n 
URL:https://carolinaflyfishingclub.org/event/casting-clinic-free/
LOCATION:Riverside Park\, Franklinville NC\, 125 W Main St\, Franklinville\, NC\, 27248
CATEGORIES:Events
ORGANIZER;CN="Brower Moffitt":MAILTO:Dietze501@gmail.com
END:VEVENT
END:VCALENDAR