BEGIN:VCALENDAR
VERSION:2.0
PRODID:-//Carolina Fly Fishing Club - ECPv6.15.20//NONSGML v1.0//EN
CALSCALE:GREGORIAN
METHOD:PUBLISH
X-WR-CALNAME:Carolina Fly Fishing Club
X-ORIGINAL-URL:https://carolinaflyfishingclub.org
X-WR-CALDESC:Events for Carolina Fly Fishing Club
REFRESH-INTERVAL;VALUE=DURATION:PT1H
X-Robots-Tag:noindex
X-PUBLISHED-TTL:PT1H
BEGIN:VTIMEZONE
TZID:America/New_York
BEGIN:DAYLIGHT
TZOFFSETFROM:-0500
TZOFFSETTO:-0400
TZNAME:EDT
DTSTART:20240310T070000
END:DAYLIGHT
BEGIN:STANDARD
TZOFFSETFROM:-0400
TZOFFSETTO:-0500
TZNAME:EST
DTSTART:20241103T060000
END:STANDARD
BEGIN:DAYLIGHT
TZOFFSETFROM:-0500
TZOFFSETTO:-0400
TZNAME:EDT
DTSTART:20250309T070000
END:DAYLIGHT
BEGIN:STANDARD
TZOFFSETFROM:-0400
TZOFFSETTO:-0500
TZNAME:EST
DTSTART:20251102T060000
END:STANDARD
BEGIN:DAYLIGHT
TZOFFSETFROM:-0500
TZOFFSETTO:-0400
TZNAME:EDT
DTSTART:20260308T070000
END:DAYLIGHT
BEGIN:STANDARD
TZOFFSETFROM:-0400
TZOFFSETTO:-0500
TZNAME:EST
DTSTART:20261101T060000
END:STANDARD
END:VTIMEZONE
BEGIN:VEVENT
DTSTART;TZID=America/New_York:20250329T080000
DTEND;TZID=America/New_York:20250329T170000
DTSTAMP:20260419T190006
CREATED:20250308T144049Z
LAST-MODIFIED:20250308T144049Z
UID:10000182-1743235200-1743267600@carolinaflyfishingclub.org
SUMMARY:Stone Mountain Trip
DESCRIPTION:Join DJ Smith and Carolina Fly Fishing Club for a day of fishing up at Stone Mountain. \nContact DJ\, your point of contact if you are interested in going or have any questions.  djandchrissmith@roadrunner.com
URL:https://carolinaflyfishingclub.org/event/stone-mountain-trip/
LOCATION:Stone Mountain state Park\, 3042 Frank Pkwy\, Roaring Gap\, 28668\, United States
CATEGORIES:Trips
ORGANIZER;CN="Carolina Fly Fishing CLub":MAILTO:Carolinaflyfishingclub@gmail.com
END:VEVENT
END:VCALENDAR